BEGIN:VCALENDAR
PRODID:Nexudus
VERSION:2.0
BEGIN:VTIMEZONE
TZID:Asia/Singapore
X-LIC-LOCATION:Asia/Singapore
BEGIN:STANDARD
DTSTART:19820101T010000
RRULE:FREQ=YEARLY;BYDAY=1FR;BYMONTH=1
TZNAME:+08
TZOFFSETFROM:+0900
TZOFFSETTO:+0800
END:STANDARD
END:VTIMEZONE
BEGIN:VEVENT
DESCRIPTION:\nEvent link: https://Hubud.spaces.nexudus.com/en/events/view/1
 203916729/create-an-action-plan-for-2020\n
DTEND;TZID=Asia/Singapore:20191203T183000
DTSTAMP:20260422T221419Z
DTSTART;TZID=Asia/Singapore:20191203T173000
LOCATION:Hubud
SEQUENCE:0
SUMMARY:Create an Action Plan for 2020
UID:e49a58be-ccb2-4920-a84a-89f0f5fccfc1
END:VEVENT
END:VCALENDAR
