BEGIN:VCALENDAR
PRODID:Nexudus
VERSION:2.0
BEGIN:VTIMEZONE
TZID:Asia/Singapore
X-LIC-LOCATION:Asia/Singapore
BEGIN:STANDARD
DTSTART:19820101T010000
RRULE:FREQ=YEARLY;BYDAY=1FR;BYMONTH=1
TZNAME:+08
TZOFFSETFROM:+0900
TZOFFSETTO:+0800
END:STANDARD
END:VTIMEZONE
BEGIN:VEVENT
DESCRIPTION:\nEvent link: https://Hubud.spaces.nexudus.com/en/events/view/1
 222281870/mac-doctor-in-house\n
DTEND;TZID=Asia/Singapore:20200115T120000
DTSTAMP:20260422T222059Z
DTSTART;TZID=Asia/Singapore:20200129T100000
LOCATION:Hubud
SEQUENCE:0
SUMMARY:Mac Doctor in House
UID:4219be2b-c734-473d-91e6-2c462ed4b4cc
END:VEVENT
END:VCALENDAR
