BEGIN:VCALENDAR
PRODID:Nexudus
VERSION:2.0
BEGIN:VTIMEZONE
TZID:Asia/Singapore
X-LIC-LOCATION:Asia/Singapore
BEGIN:STANDARD
DTSTART:19820101T010000
RRULE:FREQ=YEARLY;BYDAY=1FR;BYMONTH=1
TZNAME:+08
TZOFFSETFROM:+0900
TZOFFSETTO:+0800
END:STANDARD
END:VTIMEZONE
BEGIN:VEVENT
DESCRIPTION:\nEvent link: https://Hubud.spaces.nexudus.com/en/events/view/1
 234171170/napalm-sales\n
DTEND;TZID=Asia/Singapore:20200121T183000
DTSTAMP:20260422T222229Z
DTSTART;TZID=Asia/Singapore:20200121T173000
LOCATION:Hubud
SEQUENCE:0
SUMMARY:Napalm Sales
UID:e55b66a3-a1f5-4b9c-9772-ad206e036b39
END:VEVENT
END:VCALENDAR
