BEGIN:VCALENDAR
PRODID:Nexudus
VERSION:2.0
BEGIN:VTIMEZONE
TZID:Asia/Singapore
X-LIC-LOCATION:Asia/Singapore
BEGIN:STANDARD
DTSTART:19820101T010000
RRULE:FREQ=YEARLY;BYDAY=1FR;BYMONTH=1
TZNAME:+08
TZOFFSETFROM:+0900
TZOFFSETTO:+0800
END:STANDARD
END:VTIMEZONE
BEGIN:VEVENT
DESCRIPTION:\nEvent link: https://Hubud.spaces.nexudus.com/en/events/view/1
 240880643/wordpress-speed-optimization---theory-vs-practice\n
DTEND;TZID=Asia/Singapore:20200129T183000
DTSTAMP:20260422T221242Z
DTSTART;TZID=Asia/Singapore:20200129T173000
LOCATION:Hubud
SEQUENCE:0
SUMMARY:WordPress Speed Optimization - Theory vs Practice
UID:485bc606-7f07-40e3-a3cb-df716b392715
END:VEVENT
END:VCALENDAR
