BEGIN:VCALENDAR
PRODID:Nexudus
VERSION:2.0
BEGIN:VTIMEZONE
TZID:Asia/Singapore
X-LIC-LOCATION:Asia/Singapore
BEGIN:STANDARD
DTSTART:19820101T010000
RRULE:FREQ=YEARLY;BYDAY=1FR;BYMONTH=1
TZNAME:+08
TZOFFSETFROM:+0900
TZOFFSETTO:+0800
END:STANDARD
END:VTIMEZONE
BEGIN:VEVENT
DESCRIPTION:\nEvent link: https://Hubud.spaces.nexudus.com/en/events/view/1
 249198392/how-to-use-storytelling-as-a-brand-strategy\n
DTEND;TZID=Asia/Singapore:20200219T183000
DTSTAMP:20260422T222112Z
DTSTART;TZID=Asia/Singapore:20200219T173000
LOCATION:Hubud
SEQUENCE:0
SUMMARY:How to Use Storytelling As a Brand Strategy
UID:7452cf3c-1333-4d29-8fa2-a2d11368d0d4
END:VEVENT
END:VCALENDAR
