BEGIN:VCALENDAR
PRODID:Nexudus
VERSION:2.0
BEGIN:VTIMEZONE
TZID:Asia/Singapore
X-LIC-LOCATION:Asia/Singapore
BEGIN:STANDARD
DTSTART:19820101T010000
RRULE:FREQ=YEARLY;BYDAY=1FR;BYMONTH=1
TZNAME:+08
TZOFFSETFROM:+0900
TZOFFSETTO:+0800
END:STANDARD
END:VTIMEZONE
BEGIN:VEVENT
DESCRIPTION:\nEvent link: https://Hubud.spaces.nexudus.com/en/events/view/1
 263639381/how-to-use-speaking-to-enrol-great-clients\n
DTEND;TZID=Asia/Singapore:20200409T183000
DTSTAMP:20260422T222116Z
DTSTART;TZID=Asia/Singapore:20200409T173000
LOCATION:Hubud
SEQUENCE:0
SUMMARY:How to Use Speaking To Enrol Great Clients
UID:c6a8fd73-8dfe-4052-b0ac-756bdc140926
END:VEVENT
END:VCALENDAR
