BEGIN:VCALENDAR
PRODID:Nexudus
VERSION:2.0
BEGIN:VTIMEZONE
TZID:Asia/Singapore
X-LIC-LOCATION:Asia/Singapore
BEGIN:STANDARD
DTSTART:19820101T010000
RRULE:FREQ=YEARLY;BYDAY=1FR;BYMONTH=1
TZNAME:+08
TZOFFSETFROM:+0900
TZOFFSETTO:+0800
END:STANDARD
END:VTIMEZONE
BEGIN:VEVENT
DESCRIPTION:\nEvent link: https://Hubud.spaces.nexudus.com/en/events/view/1
 286536264/ubud-toastmasters\n
DTEND;TZID=Asia/Singapore:20200318T211500
DTSTAMP:20260422T203914Z
DTSTART;TZID=Asia/Singapore:20200318T184500
LOCATION:Hubud
SEQUENCE:0
SUMMARY:Ubud Toastmasters
UID:88d9506d-e2ee-48d1-82e0-9862e9364a20
END:VEVENT
END:VCALENDAR
