BEGIN:VCALENDAR
PRODID:Nexudus
VERSION:2.0
BEGIN:VTIMEZONE
TZID:Asia/Singapore
X-LIC-LOCATION:Asia/Singapore
BEGIN:STANDARD
DTSTART:19820101T010000
RRULE:FREQ=YEARLY;BYDAY=1FR;BYMONTH=1
TZNAME:+08
TZOFFSETFROM:+0900
TZOFFSETTO:+0800
END:STANDARD
END:VTIMEZONE
BEGIN:VEVENT
DESCRIPTION:New member at Hubud ? \nEvent link: https://Hubud.spaces.nexudu
 s.com/en/events/view/230951756/new-members-orientation\n
DTEND;TZID=Asia/Singapore:20160901T110000
DTSTAMP:20260425T221545Z
DTSTART;TZID=Asia/Singapore:20160901T100000
LOCATION:Hubud
SEQUENCE:0
SUMMARY:New Members Orientation 
UID:668c6a55-04ff-4bf0-ac92-3effbfcd082b
END:VEVENT
END:VCALENDAR
