BEGIN:VCALENDAR
PRODID:Nexudus
VERSION:2.0
BEGIN:VTIMEZONE
TZID:Asia/Singapore
X-LIC-LOCATION:Asia/Singapore
BEGIN:STANDARD
DTSTART:19820101T010000
RRULE:FREQ=YEARLY;BYDAY=1FR;BYMONTH=1
TZNAME:+08
TZOFFSETFROM:+0900
TZOFFSETTO:+0800
END:STANDARD
END:VTIMEZONE
BEGIN:VEVENT
DESCRIPTION:This event is open to the public!\n\n★ SAVE THE DATE: MONDAY\
 , 11 JUNE 2018\n★★ OPEN TO PUBLIC\n★★★ FREE SCREENING AT HUBUD\n
 \nInterstellar chronicles the adventures of a group of explorers who make 
 use of a newly discovered wormhole to surpass the limitations on human spa
 ce travel and conquer the vast distances involved in an interstellar voyag
 e.\n\nNot only we'll watch the movie but there will be an open discussion 
 after the screening with Hubudians.\n\nFood & drinks will be available at 
 Kantin\, so if you fancy beer or some snacks (Popcorn? YES!)\, worry no mo
 re!\nEvent link: https://Hubud.spaces.nexudus.com/en/events/view/627589099
 /hubud-movie-night--interstellar\n
DTEND;TZID=Asia/Singapore:20180618T200000
DTSTAMP:20260423T144208Z
DTSTART;TZID=Asia/Singapore:20180618T180000
LOCATION:Hubud
SEQUENCE:0
SUMMARY:Hubud Movie Night: Interstellar
UID:e89ced20-e3d9-47d5-a89b-4172bb457a0d
END:VEVENT
END:VCALENDAR
