BEGIN:VCALENDAR
PRODID:Nexudus
VERSION:2.0
BEGIN:VTIMEZONE
TZID:Asia/Singapore
X-LIC-LOCATION:Asia/Singapore
BEGIN:STANDARD
DTSTART:19820101T010000
RRULE:FREQ=YEARLY;BYDAY=1FR;BYMONTH=1
TZNAME:+08
TZOFFSETFROM:+0900
TZOFFSETTO:+0800
END:STANDARD
END:VTIMEZONE
BEGIN:VEVENT
DESCRIPTION:Leave your computer\, meet your fellow Hubudians while enjoying
  delicious lunch at one of the best ramen places in town!\nThis Friday\, w
 e'll go for a lunch out at Angkasa! If you are wondering\, where is the be
 st ramen place in town... then Angkasa is the answer!\n\nWe have limited s
 pot for 15 PEOPLE\, so RSVP quickly to rsvp@hubud.org. Lunch will start at
  12:30pm sharp!\n\nPs. they have a special deal for Lunch Set! Starting at
  50k only! So you better get your tummy ready for fulfilling lunch!\nEvent
  link: https://Hubud.spaces.nexudus.com/en/events/view/627589117/social-ho
 ur--hubud-lunch-out-at-angkasa\n
DTEND;TZID=Asia/Singapore:20180622T140000
DTSTAMP:20260423T145549Z
DTSTART;TZID=Asia/Singapore:20180622T123000
LOCATION:Hubud
SEQUENCE:0
SUMMARY:Social Hour: Hubud Lunch Out at Angkasa
UID:1b50879d-7043-48e9-8c45-292a77c1f5b9
END:VEVENT
END:VCALENDAR
