BEGIN:VCALENDAR
PRODID:Nexudus
VERSION:2.0
BEGIN:VTIMEZONE
TZID:Asia/Singapore
X-LIC-LOCATION:Asia/Singapore
BEGIN:STANDARD
DTSTART:19820101T010000
RRULE:FREQ=YEARLY;BYDAY=1FR;BYMONTH=1
TZNAME:+08
TZOFFSETFROM:+0900
TZOFFSETTO:+0800
END:STANDARD
END:VTIMEZONE
BEGIN:VEVENT
DESCRIPTION:This event is for members only. Find out more about membership 
 (including Events Only membership) at https://www.hubud.org/join/\n\nFound
 ed in 1997 by Dr. Bayu Wirayudha\, Friends of the National Parks Foundatio
 n (FNPF) is an Indonesian non-profit\, grass-roots\, conservation organiza
 tion working to protect wildlife\, restore habitat\, and improve the well 
 being of local communities. FNPF works closely with local communities\, cu
 stomary and cultural groups\, government\, researchers\, volunteers\, and 
 the global conservation community. They employ\, educate and improve the w
 ell being (social & economic) of the local communities in the vicinity of 
 each project.\n\nFNPF’s upcoming project is in the village of Besi Kalun
 g (about 50km northwest of Denpasar)\, a group of local farming communitie
 s in the center of a UNESCO world cultural heritage site\, famous for its 
 rice-farming culture. FNPF aims to introduce sustainable\, community-based
  eco-tourism into Besi Kalung so that farmers in the region can become ben
 eficiaries of tourism in the area\, as opposed to objects of tourism as th
 ey are now.\n\nThe challenges FNPF is facing:\nCurrent challenges that FNP
 F faces with this project relate mainly to finding appropriate sustainable
  technology and infrastructure for the planned development. As well as thi
 s\, critical funding is needed for the vision of Besi Kalung to become a r
 eality\, and funding ideas are greatly needed.\n\nMain desired outcomes:\n
 - feedback concerning sustainability\n- thoughts/ideas for what sustainabl
 e technology could be implemented in this project\, specifically with maki
 ng the development in Besi Kalung\, which will eventually be handed over t
 o be operated by the Besi Kalung community\, self-sustaining\n- feedback o
 r ideas for funding and finding investors\nEvent link: https://Hubud.space
 s.nexudus.com/en/events/view/639481845/think-thank--besi-kalung-sustainabl
 e-ecotourism-project--by-fnpf\n
DTEND;TZID=Asia/Singapore:20180725T133000
DTSTAMP:20260425T140137Z
DTSTART;TZID=Asia/Singapore:20180725T123000
LOCATION:Hubud
SEQUENCE:0
SUMMARY:Think Thank: Besi Kalung Sustainable Ecotourism Project\, by FNPF
UID:28154eb1-b845-41e7-92bd-3efb67549c09
END:VEVENT
END:VCALENDAR
