BEGIN:VCALENDAR
PRODID:Nexudus
VERSION:2.0
BEGIN:VTIMEZONE
TZID:Asia/Singapore
X-LIC-LOCATION:Asia/Singapore
BEGIN:STANDARD
DTSTART:19820101T010000
RRULE:FREQ=YEARLY;BYDAY=1FR;BYMONTH=1
TZNAME:+08
TZOFFSETFROM:+0900
TZOFFSETTO:+0800
END:STANDARD
END:VTIMEZONE
BEGIN:VEVENT
DESCRIPTION:This event is open to the public!\n\n★ SAVE THE DATE: MONDAY\
 , 9 JULY 2018\n★★ OPEN TO PUBLIC\n★★★ FREE SCREENING AT HUBUD\n\
 n❗❗ 𝐁𝐈𝐆 𝐍𝐄𝐖𝐒 ❗❗\nThere will be 
 a buffet dinner for only 50.000 rupiahs! Enjoy the movie without feeling i
 n a rush to grab your food afterwards\, it's already there! \n\nJon\, a yo
 ung wanna-be musician\, discovers he's bitten off more than he can chew wh
 en he joins an eccentric pop band led by the mysterious and enigmatic Fran
 k.\n\nNot only we'll watch the movie\, but there will be an open discussio
 n after the screening.\nEvent link: https://Hubud.spaces.nexudus.com/en/ev
 ents/view/639481894/hubud-movie-night--frank\n
DTEND;TZID=Asia/Singapore:20180709T210000
DTSTAMP:20260423T144449Z
DTSTART;TZID=Asia/Singapore:20180709T190000
LOCATION:Hubud
SEQUENCE:0
SUMMARY:Hubud Movie Night: Frank
UID:e73d2be1-c804-44e5-ad86-c37ec4e3dc81
END:VEVENT
END:VCALENDAR
