BEGIN:VCALENDAR
PRODID:Nexudus
VERSION:2.0
BEGIN:VTIMEZONE
TZID:Asia/Singapore
X-LIC-LOCATION:Asia/Singapore
BEGIN:STANDARD
DTSTART:19820101T010000
RRULE:FREQ=YEARLY;BYDAY=1FR;BYMONTH=1
TZNAME:+08
TZOFFSETFROM:+0900
TZOFFSETTO:+0800
END:STANDARD
END:VTIMEZONE
BEGIN:VEVENT
DESCRIPTION:This event is for members only. Find out more about membership 
 (including Events Only membership) at https://www.hubud.org/join/\n\nSilve
 r Island Jewellery is a one woman business\, and the result of inspiration
 s from a lifetime of travels around the world. The jewels contain every pl
 ace Carla has been so fortunate to visit and experience\, such as Brazil\,
  Australia\, France\, Norway and Bali. Moreover\, the aesthetic of these o
 bjects embrace a lifestyle made out of sun\, sea\, surf\, and salty hair. 
 For beach bums like Carla\, this is an exclusive must have during sunny da
 ys.\n\nThe challenges Silver Island Jewellery is facing:\n- no web traffic
  at all and consequently no sales and profit\n- poor digital marketing –
  ads\, social media (Facebook + Instagram).\n- no idea how Facebook Busine
 ss Manager works\n- poor product description\n- SIJ is not on google searc
 hing engine\n- no engagement\, no story telling\n- the website is not comp
 lete and needs improvements\n\nMain desired outcomes:\n- people who have d
 igital marketing skills\, social media skills\, search engines skills\, bu
 siness skills\, web designers\n- as much feedback as possible\n- meet peop
 le with knowledge on google search engine\n- get ideas to set a good busin
 ess strategy as well as a good marketing strategy.\n- share experiences\nE
 vent link: https://Hubud.spaces.nexudus.com/en/events/view/658048507/entre
 preneurial-think-thank--silver-island-jewellery\n
DTEND;TZID=Asia/Singapore:20180808T133000
DTSTAMP:20260422T221954Z
DTSTART;TZID=Asia/Singapore:20180808T123000
LOCATION:Hubud
SEQUENCE:0
SUMMARY:Entrepreneurial Think Thank: Silver Island Jewellery
UID:b52ce707-f172-4d46-b457-9eb359e9a73c
END:VEVENT
END:VCALENDAR
