BEGIN:VCALENDAR
PRODID:Nexudus
VERSION:2.0
BEGIN:VTIMEZONE
TZID:Asia/Singapore
X-LIC-LOCATION:Asia/Singapore
BEGIN:STANDARD
DTSTART:19820101T010000
RRULE:FREQ=YEARLY;BYDAY=1FR;BYMONTH=1
TZNAME:+08
TZOFFSETFROM:+0900
TZOFFSETTO:+0800
END:STANDARD
END:VTIMEZONE
BEGIN:VEVENT
DESCRIPTION:THIS DISCUSSION IS OPEN TO THE PUBLIC!\n\nThe aftermath of rece
 nt Lombok earthquakes and our opportunity to offer humanity: we invite you
  to join our informational discussion session on the devastating and perpe
 tuating earthquakes in Lombok.\n\nBali's close neighbor Lombok is one of t
 he poorest regions in Indonesia where even in times of normality people su
 rvive with very little. Now that they've lost that too\, we are here to he
 lp and give back what we can to this wonderful part of the world we call h
 ome. \n\nAbout the speaker:\nJanset Berzeg is a solo entrepreneur based in
  Lombok and Gili Air since 2014 with a focus in social enterprise models. 
 \n\nJanset has a background in Refugees and Forced Migration with 11 years
  of professional experience working with ICMC\, The Red Cross and STARTTS 
 (NSW Service for The Treatment and Rehabilitation of Torture Survivors). S
 he has a M.A. in Development Studies at UNSW.\n\nShe has lost her home and
  her business in the recent earthquakes and is working towards rebuilding 
 the lives of affected communities in Lombok.\nEvent link: https://Hubud.sp
 aces.nexudus.com/en/events/view/676489882/from-tragedy-to-unity--in-times-
 of-darkness-we-can-be-the-light\n
DTEND;TZID=Asia/Singapore:20180813T133000
DTSTAMP:20260422T235123Z
DTSTART;TZID=Asia/Singapore:20180813T123000
LOCATION:Hubud
SEQUENCE:0
SUMMARY:From Tragedy to Unity: In Times of Darkness we can be the Light
UID:e7c47c07-4ac8-409e-9913-8a97a0549015
END:VEVENT
END:VCALENDAR
