BEGIN:VCALENDAR
PRODID:Nexudus
VERSION:2.0
BEGIN:VTIMEZONE
TZID:Asia/Singapore
X-LIC-LOCATION:Asia/Singapore
BEGIN:STANDARD
DTSTART:19820101T010000
RRULE:FREQ=YEARLY;BYDAY=1FR;BYMONTH=1
TZNAME:+08
TZOFFSETFROM:+0900
TZOFFSETTO:+0800
END:STANDARD
END:VTIMEZONE
BEGIN:VEVENT
DESCRIPTION:This event is for members only. Find out more about membership 
 (including Events Only membership) at https://www.hubud.org/join/\n\nFindi
 ng it difficult to create content? Don’t have enough readers/viewers? Tr
 ying to identify more channels to promote your content? \n\nIf your answer
  is yes to any of the above questions\, then this is for you. In this pres
 entation\, Nivas will provide you with techniques on how to create content
  when you are a non-content person\, promote it in new channels beyond soc
 ial media\, getting influencers to partner with your brand\, and why it is
  important to build your own audience. \n\nWhat you will learn:\n- how to 
 generate content as a non-content person\n- how to make more people read y
 our content beyond just social media \n- how to get influencers to partner
  with your brand\n- using webinars to build trust for your brand\n- import
 ance of building your own audience\n\nAbout the speaker:\nNivas Ravichandr
 an is associated with Freshworks as the Product Marketer for their CRM Sof
 tware Freshsales. Freshworks Inc. is a B2B SaaS Company with over 100K+ cu
 stomers around the world including Honda\, Bridgestone\, Hugo Boss\, Unive
 rsity of Pennsylvania\, Toshiba and Cisco. Freshworks Inc. is backed by Ac
 cel\, Tiger Global Management\, CapitalG\, and Sequoia Capital India. \n\n
 At Freshworks\, Nivas is responsible for organic growth through Webinars\,
  Email marketing\, Social\, and Community Initiatives. He is also a guest 
 writer for TechinAsia\, Inc42\, and Hackernoon. He is also a volunteer wit
 h IEEE and leads the Young Professionals community for Asia Pacific. \n\nL
 inkedIn: https://www.linkedin.com/in/nivasravichandran/\nEvent link: https
 ://Hubud.spaces.nexudus.com/en/events/view/679905268/skill-share--how-to-g
 enerate-leads-through-b2b-content-marketing\n
DTEND;TZID=Asia/Singapore:20180828T133000
DTSTAMP:20260423T105545Z
DTSTART;TZID=Asia/Singapore:20180828T123000
LOCATION:Hubud
SEQUENCE:0
SUMMARY:Skill Share: How to Generate Leads Through B2B Content Marketing
UID:1e1b292b-b949-448f-909a-09c4cf24e49c
END:VEVENT
END:VCALENDAR
