BEGIN:VCALENDAR
PRODID:Nexudus
VERSION:2.0
BEGIN:VTIMEZONE
TZID:Asia/Singapore
X-LIC-LOCATION:Asia/Singapore
BEGIN:STANDARD
DTSTART:19820101T010000
RRULE:FREQ=YEARLY;BYDAY=1FR;BYMONTH=1
TZNAME:+08
TZOFFSETFROM:+0900
TZOFFSETTO:+0800
END:STANDARD
END:VTIMEZONE
BEGIN:VEVENT
DESCRIPTION:\nEvent link: https://Hubud.spaces.nexudus.com/en/events/view/7
 33057326/skill-share--creating-a-business-that-feeds-your-soul\n
DTEND;TZID=Asia/Singapore:20181018T133000
DTSTAMP:20260423T012439Z
DTSTART;TZID=Asia/Singapore:20181018T123000
LOCATION:Hubud
SEQUENCE:0
SUMMARY:Skill Share: Creating a Business That Feeds your Soul
UID:1c6025f4-3998-4cfa-b124-34da7ea4fdf1
END:VEVENT
END:VCALENDAR
