BEGIN:VCALENDAR
PRODID:Nexudus
VERSION:2.0
BEGIN:VTIMEZONE
TZID:Asia/Singapore
X-LIC-LOCATION:Asia/Singapore
BEGIN:STANDARD
DTSTART:19820101T010000
RRULE:FREQ=YEARLY;BYDAY=1FR;BYMONTH=1
TZNAME:+08
TZOFFSETFROM:+0900
TZOFFSETTO:+0800
END:STANDARD
END:VTIMEZONE
BEGIN:VEVENT
DESCRIPTION:\nEvent link: https://Hubud.spaces.nexudus.com/en/events/view/7
 39150416/hubud-lunch-out-at-angkasa\n
DTEND;TZID=Asia/Singapore:20181026T140000
DTSTAMP:20260423T110300Z
DTSTART;TZID=Asia/Singapore:20181026T123000
LOCATION:Hubud
SEQUENCE:0
SUMMARY:Hubud Lunch Out at Angkasa
UID:c6279420-f0ab-48dd-9604-b2bffc1feb68
END:VEVENT
END:VCALENDAR
