BEGIN:VCALENDAR
PRODID:Nexudus
VERSION:2.0
BEGIN:VTIMEZONE
TZID:Asia/Singapore
X-LIC-LOCATION:Asia/Singapore
BEGIN:STANDARD
DTSTART:19820101T010000
RRULE:FREQ=YEARLY;BYDAY=1FR;BYMONTH=1
TZNAME:+08
TZOFFSETFROM:+0900
TZOFFSETTO:+0800
END:STANDARD
END:VTIMEZONE
BEGIN:VEVENT
DESCRIPTION:\nEvent link: https://Hubud.spaces.nexudus.com/en/events/view/7
 39195461/hubud-goes-cycling-with-sepeda-bali\n
DTEND;TZID=Asia/Singapore:20181023T180000
DTSTAMP:20260422T222055Z
DTSTART;TZID=Asia/Singapore:20181023T073000
LOCATION:Hubud
SEQUENCE:0
SUMMARY:Hubud Goes Cycling with Sepeda Bali
UID:0a5d7600-181a-46e7-ad97-0a6093e7e23c
END:VEVENT
END:VCALENDAR
