BEGIN:VCALENDAR
PRODID:Nexudus
VERSION:2.0
BEGIN:VTIMEZONE
TZID:Asia/Singapore
X-LIC-LOCATION:Asia/Singapore
BEGIN:STANDARD
DTSTART:19820101T010000
RRULE:FREQ=YEARLY;BYDAY=1FR;BYMONTH=1
TZNAME:+08
TZOFFSETFROM:+0900
TZOFFSETTO:+0800
END:STANDARD
END:VTIMEZONE
BEGIN:VEVENT
DESCRIPTION:\nEvent link: https://Hubud.spaces.nexudus.com/en/events/view/7
 43544814/skill-share--unstuck-your-money-mindset\n
DTEND;TZID=Asia/Singapore:20181108T133000
DTSTAMP:20260423T010719Z
DTSTART;TZID=Asia/Singapore:20181108T123000
LOCATION:Hubud
SEQUENCE:0
SUMMARY:Skill Share: Unstuck your Money Mindset
UID:9ab8842b-21e4-4f47-bf79-4babf64a353b
END:VEVENT
END:VCALENDAR
