BEGIN:VCALENDAR
PRODID:Nexudus
VERSION:2.0
BEGIN:VTIMEZONE
TZID:Asia/Singapore
X-LIC-LOCATION:Asia/Singapore
BEGIN:STANDARD
DTSTART:19820101T010000
RRULE:FREQ=YEARLY;BYDAY=1FR;BYMONTH=1
TZNAME:+08
TZOFFSETFROM:+0900
TZOFFSETTO:+0800
END:STANDARD
END:VTIMEZONE
BEGIN:VEVENT
DESCRIPTION:\nEvent link: https://Hubud.spaces.nexudus.com/en/events/view/7
 70784028/hubud-open-day-\n
DTEND;TZID=Asia/Singapore:20181206T170000
DTSTAMP:20260422T221938Z
DTSTART;TZID=Asia/Singapore:20181206T090000
LOCATION:Hubud
SEQUENCE:0
SUMMARY:Hubud Open Day!
UID:b774c780-0b6c-405e-9f5f-faf75c0702c9
END:VEVENT
END:VCALENDAR
