BEGIN:VCALENDAR
PRODID:Nexudus
VERSION:2.0
BEGIN:VTIMEZONE
TZID:Asia/Singapore
X-LIC-LOCATION:Asia/Singapore
BEGIN:STANDARD
DTSTART:19820101T010000
RRULE:FREQ=YEARLY;BYDAY=1FR;BYMONTH=1
TZNAME:+08
TZOFFSETFROM:+0900
TZOFFSETTO:+0800
END:STANDARD
END:VTIMEZONE
BEGIN:VEVENT
DESCRIPTION:\nEvent link: https://Hubud.spaces.nexudus.com/en/events/view/7
 75945177/hubud-social-hour--ubud-beer-pong-tournament-vol--10\n
DTEND;TZID=Asia/Singapore:20181207T220000
DTSTAMP:20260423T082313Z
DTSTART;TZID=Asia/Singapore:20181207T190000
LOCATION:Hubud
SEQUENCE:0
SUMMARY:Hubud Social Hour: Ubud Beer Pong Tournament Vol. 10
UID:26c98847-abbf-415c-9cad-7211dec78e05
END:VEVENT
END:VCALENDAR
