BEGIN:VCALENDAR
PRODID:Nexudus
VERSION:2.0
BEGIN:VTIMEZONE
TZID:Asia/Singapore
X-LIC-LOCATION:Asia/Singapore
BEGIN:STANDARD
DTSTART:19820101T010000
RRULE:FREQ=YEARLY;BYDAY=1FR;BYMONTH=1
TZNAME:+08
TZOFFSETFROM:+0900
TZOFFSETTO:+0800
END:STANDARD
END:VTIMEZONE
BEGIN:VEVENT
DESCRIPTION:\nEvent link: https://Hubud.spaces.nexudus.com/en/events/view/8
 08271464/hubud-open-day-\n
DTEND;TZID=Asia/Singapore:20190110T170000
DTSTAMP:20260422T221933Z
DTSTART;TZID=Asia/Singapore:20190110T090000
LOCATION:Hubud
SEQUENCE:0
SUMMARY:Hubud Open Day!
UID:93a6192a-9606-46e2-881a-bc4b58720711
END:VEVENT
END:VCALENDAR
