BEGIN:VCALENDAR
PRODID:Nexudus
VERSION:2.0
BEGIN:VTIMEZONE
TZID:Asia/Singapore
X-LIC-LOCATION:Asia/Singapore
BEGIN:STANDARD
DTSTART:19820101T010000
RRULE:FREQ=YEARLY;BYDAY=1FR;BYMONTH=1
TZNAME:+08
TZOFFSETFROM:+0900
TZOFFSETTO:+0800
END:STANDARD
END:VTIMEZONE
BEGIN:VEVENT
DESCRIPTION:\nEvent link: https://Hubud.spaces.nexudus.com/en/events/view/8
 25772258/bali-bungkus--creating-value\n
DTEND;TZID=Asia/Singapore:20190205T150000
DTSTAMP:20260423T055246Z
DTSTART;TZID=Asia/Singapore:20190205T140000
LOCATION:Hubud
SEQUENCE:0
SUMMARY:Bali Bungkus: Creating Value 
UID:cbd7dd26-6dfc-4fa6-a03b-0084c07380f2
END:VEVENT
END:VCALENDAR
