BEGIN:VCALENDAR
PRODID:Nexudus
VERSION:2.0
BEGIN:VTIMEZONE
TZID:Asia/Singapore
X-LIC-LOCATION:Asia/Singapore
BEGIN:STANDARD
DTSTART:19820101T010000
RRULE:FREQ=YEARLY;BYDAY=1FR;BYMONTH=1
TZNAME:+08
TZOFFSETFROM:+0900
TZOFFSETTO:+0800
END:STANDARD
END:VTIMEZONE
BEGIN:VEVENT
DESCRIPTION:\nEvent link: https://Hubud.spaces.nexudus.com/en/events/view/9
 56982031/bali-bungkus--lifestyle-hacks-for-digital-nomads\n
DTEND;TZID=Asia/Singapore:20190321T133000
DTSTAMP:20260424T000228Z
DTSTART;TZID=Asia/Singapore:20190321T123000
LOCATION:Hubud
SEQUENCE:0
SUMMARY:Bali Bungkus: Lifestyle Hacks for Digital nomads
UID:e6a7778b-8b25-40fd-beaf-eff965f475e1
END:VEVENT
END:VCALENDAR
