BEGIN:VCALENDAR
PRODID:Nexudus
VERSION:2.0
BEGIN:VTIMEZONE
TZID:Asia/Singapore
X-LIC-LOCATION:Asia/Singapore
BEGIN:STANDARD
DTSTART:19820101T010000
RRULE:FREQ=YEARLY;BYDAY=1FR;BYMONTH=1
TZNAME:+08
TZOFFSETFROM:+0900
TZOFFSETTO:+0800
END:STANDARD
END:VTIMEZONE
BEGIN:VEVENT
DESCRIPTION:\nEvent link: https://Hubud.spaces.nexudus.com/en/events/view/1
 018999993/skill-share--get-the-right-clients-with-the-right-messaging\n
DTEND;TZID=Asia/Singapore:20190520T183000
DTSTAMP:20260422T222224Z
DTSTART;TZID=Asia/Singapore:20190520T173000
LOCATION:Hubud
SEQUENCE:0
SUMMARY:Skill Share: Get The Right Clients with The Right Messaging
UID:1d6df66c-1bf6-46e6-9721-a897e24b4424
END:VEVENT
END:VCALENDAR
