BEGIN:VCALENDAR
PRODID:Nexudus
VERSION:2.0
BEGIN:VTIMEZONE
TZID:Asia/Singapore
X-LIC-LOCATION:Asia/Singapore
BEGIN:STANDARD
DTSTART:19820101T010000
RRULE:FREQ=YEARLY;BYDAY=1FR;BYMONTH=1
TZNAME:+08
TZOFFSETFROM:+0900
TZOFFSETTO:+0800
END:STANDARD
END:VTIMEZONE
BEGIN:VEVENT
DESCRIPTION:\nEvent link: https://Hubud.spaces.nexudus.com/en/events/view/1
 054814763/skill-share--turning-followers-into-profits\n
DTEND;TZID=Asia/Singapore:20190611T183000
DTSTAMP:20260422T222342Z
DTSTART;TZID=Asia/Singapore:20190611T173000
LOCATION:Hubud
SEQUENCE:0
SUMMARY:Skill Share: Turning Followers Into Profits
UID:2a9896c3-6da8-49b5-aa15-0c183a4b81f4
END:VEVENT
END:VCALENDAR
