BEGIN:VCALENDAR
PRODID:Nexudus
VERSION:2.0
BEGIN:VTIMEZONE
TZID:Asia/Singapore
X-LIC-LOCATION:Asia/Singapore
BEGIN:STANDARD
DTSTART:19820101T010000
RRULE:FREQ=YEARLY;BYDAY=1FR;BYMONTH=1
TZNAME:+08
TZOFFSETFROM:+0900
TZOFFSETTO:+0800
END:STANDARD
END:VTIMEZONE
BEGIN:VEVENT
DESCRIPTION:\nEvent link: https://Hubud.spaces.nexudus.com/en/events/view/1
 093089002/skill-share--reducing-plastic-to-save-the-ocean\n
DTEND;TZID=Asia/Singapore:20190710T183000
DTSTAMP:20260423T115420Z
DTSTART;TZID=Asia/Singapore:20190710T173000
LOCATION:Hubud
SEQUENCE:0
SUMMARY:Skill Share: Reducing Plastic to Save the Ocean
UID:6c5fc569-f85f-4a54-a5e9-eaf9c526aaa5
END:VEVENT
END:VCALENDAR
