BEGIN:VCALENDAR
PRODID:Nexudus
VERSION:2.0
BEGIN:VTIMEZONE
TZID:Asia/Singapore
X-LIC-LOCATION:Asia/Singapore
BEGIN:STANDARD
DTSTART:19820101T010000
RRULE:FREQ=YEARLY;BYDAY=1FR;BYMONTH=1
TZNAME:+08
TZOFFSETFROM:+0900
TZOFFSETTO:+0800
END:STANDARD
END:VTIMEZONE
BEGIN:VEVENT
DESCRIPTION:\nEvent link: https://Hubud.spaces.nexudus.com/en/events/view/1
 115076080/mac-doctor-in-house\n
DTEND;TZID=Asia/Singapore:20190924T120000
DTSTAMP:20260422T222231Z
DTSTART;TZID=Asia/Singapore:20190925T100000
LOCATION:Hubud
SEQUENCE:0
SUMMARY:Mac Doctor in House
UID:a7554668-bd5a-44a6-9f11-07e1b0e0a88a
END:VEVENT
END:VCALENDAR
