BEGIN:VCALENDAR
PRODID:Nexudus
VERSION:2.0
BEGIN:VTIMEZONE
TZID:Asia/Singapore
X-LIC-LOCATION:Asia/Singapore
BEGIN:STANDARD
DTSTART:19820101T010000
RRULE:FREQ=YEARLY;BYDAY=1FR;BYMONTH=1
TZNAME:+08
TZOFFSETFROM:+0900
TZOFFSETTO:+0800
END:STANDARD
END:VTIMEZONE
BEGIN:VEVENT
DESCRIPTION:\nEvent link: https://Hubud.spaces.nexudus.com/en/events/view/1
 126599740/skill-share--retail---ecommerce---launching-your-consumer-produc
 t\n
DTEND;TZID=Asia/Singapore:20190812T183000
DTSTAMP:20260422T221516Z
DTSTART;TZID=Asia/Singapore:20190812T173000
LOCATION:Hubud
SEQUENCE:0
SUMMARY:Skill Share: Retail & Ecommerce - Launching Your Consumer Product
UID:db1adcee-9089-4506-a8cb-0feb521f74b9
END:VEVENT
END:VCALENDAR
