BEGIN:VCALENDAR
PRODID:Nexudus
VERSION:2.0
BEGIN:VTIMEZONE
TZID:Asia/Singapore
X-LIC-LOCATION:Asia/Singapore
BEGIN:STANDARD
DTSTART:19820101T010000
RRULE:FREQ=YEARLY;BYDAY=1FR;BYMONTH=1
TZNAME:+08
TZOFFSETFROM:+0900
TZOFFSETTO:+0800
END:STANDARD
END:VTIMEZONE
BEGIN:VEVENT
DESCRIPTION:\nEvent link: https://Hubud.spaces.nexudus.com/en/events/view/1
 158386238/public-speaking-or-death--\n
DTEND;TZID=Asia/Singapore:20190930T183000
DTSTAMP:20260422T235359Z
DTSTART;TZID=Asia/Singapore:20190930T173000
LOCATION:Hubud
SEQUENCE:0
SUMMARY:Public Speaking or Death!?
UID:6c5192cc-56cb-4c5c-b718-067018779ba3
END:VEVENT
END:VCALENDAR
