BEGIN:VCALENDAR
PRODID:Nexudus
VERSION:2.0
BEGIN:VTIMEZONE
TZID:Asia/Singapore
X-LIC-LOCATION:Asia/Singapore
BEGIN:STANDARD
DTSTART:19820101T010000
RRULE:FREQ=YEARLY;BYDAY=1FR;BYMONTH=1
TZNAME:+08
TZOFFSETFROM:+0900
TZOFFSETTO:+0800
END:STANDARD
END:VTIMEZONE
BEGIN:VEVENT
DESCRIPTION:\nEvent link: https://Hubud.spaces.nexudus.com/en/events/view/1
 173768625/copywriting---for-yourself--and-others-\n
DTEND;TZID=Asia/Singapore:20191016T183000
DTSTAMP:20260423T052749Z
DTSTART;TZID=Asia/Singapore:20191016T173000
LOCATION:Hubud
SEQUENCE:0
SUMMARY:Copywriting - For yourself\, and others.
UID:cdc55e63-8d16-4b04-a344-61cd4f0b28fd
END:VEVENT
END:VCALENDAR
