BEGIN:VCALENDAR
PRODID:Nexudus
VERSION:2.0
BEGIN:VTIMEZONE
TZID:Asia/Singapore
X-LIC-LOCATION:Asia/Singapore
BEGIN:STANDARD
DTSTART:19820101T010000
RRULE:FREQ=YEARLY;BYDAY=1FR;BYMONTH=1
TZNAME:+08
TZOFFSETFROM:+0900
TZOFFSETTO:+0800
END:STANDARD
END:VTIMEZONE
BEGIN:VEVENT
DESCRIPTION:\nEvent link: https://Hubud.spaces.nexudus.com/en/events/view/1
 247830658/how-to-rock-your-seo-game-in-2020\n
DTEND;TZID=Asia/Singapore:20200213T183000
DTSTAMP:20260422T222251Z
DTSTART;TZID=Asia/Singapore:20200213T173000
LOCATION:Hubud
SEQUENCE:0
SUMMARY:How to Rock Your SEO Game In 2020
UID:7e079f35-e3e9-4a85-ba48-d03c9abb4d9f
END:VEVENT
END:VCALENDAR
