BEGIN:VCALENDAR
PRODID:Nexudus
VERSION:2.0
BEGIN:VTIMEZONE
TZID:Asia/Singapore
X-LIC-LOCATION:Asia/Singapore
BEGIN:STANDARD
DTSTART:19820101T010000
RRULE:FREQ=YEARLY;BYDAY=1FR;BYMONTH=1
TZNAME:+08
TZOFFSETFROM:+0900
TZOFFSETTO:+0800
END:STANDARD
END:VTIMEZONE
BEGIN:VEVENT
DESCRIPTION:This event is for members only. Find out more about membership 
 (including Events Only membership) at https://www.hubud.org/join/\n\nSo\, 
 you moved to Bali to live in bliss... and found that you are still sitting
  at a computer all day like you were at your old 9-5. Allow blissful Bali 
 to come to you\, on Wellness Wednesday’s with Lexi Traub\, a 1000 RYT In
 ternational Yoga and Meditation Instructor based in Ubud\, Bali. After stu
 dying in India for two years\, her styles of teaching range from Hatha\, I
 yengar\, Vinyasa\, Yin\, Kundalini\, Kriya\, and Tantric Yoga. She has bro
 ught these practices from the Himalayas\, to your coworking space here in 
 Bali. Her classes involve deep breathwork\, kriya\, the yoga of mastering 
 one’s energy-field\, and asana with precise alignment\, ensuring the saf
 ety of all participants. Take a break from your laptop and realign yoursel
 f with your highest purpose\, so that you can return to work with abundant
  creativity\, intellect\, and presence.\n\n\nWhat you will learn: \n\nMedi
 tation from the Himalayan Kundalini Tradition\nHow to master your breath\n
 Correct anatomical alignment in asana for your own body type\nHow to work 
 with sound vibration to shift your energy field quickly and effectively\n\
 nAbout The Speaker:\n\nLexi Traub is a 1000 RYT Yoga and Meditation Instru
 ctor and Artist\, originally from New York City\, USA. She moved to Boulde
 r\, Colorado\, where she completed her bachelor’s degree with a double m
 ajor in psychology and sociology\, and a double minor in theater and techn
 ology\, media\, and arts. After graduation\, she left on an around-the-wor
 ld backpacking trip\, which brought her face to face with indigenous heale
 rs of several traditions\, including the Mayans in Guatemala\, the Q’ero
 s and Shipibo Tribes in Peru\, her Gurus Anand Mehrotra and GuruMukh in In
 dia\, and several other awakened beings along the way. She has personally 
 practiced yoga asana for 14 years\, and has been teaching for the past 2 y
 ears. With a background in fine arts and performance arts\, she has found 
 Kriya yoga to be the most integrative way to share her passions for philos
 ophy\, creativity\, performance arts and the development of human consciou
 sness with anyone with honest inquiry.\nEvent link: https://Hubud.spaces.n
 exudus.com/en/events/view/620430836/wellness-wednesday--yoga-at-hubud\n
DTEND;TZID=Asia/Singapore:20180530T100000
DTSTAMP:20260423T043453Z
DTSTART;TZID=Asia/Singapore:20180530T090000
LOCATION:Hubud
SEQUENCE:0
SUMMARY:Wellness Wednesday: Yoga at Hubud
UID:fcf63279-4d53-4230-9265-42e292ebb325
END:VEVENT
END:VCALENDAR
