BEGIN:VCALENDAR
PRODID:Nexudus
VERSION:2.0
BEGIN:VTIMEZONE
TZID:Asia/Singapore
X-LIC-LOCATION:Asia/Singapore
BEGIN:STANDARD
DTSTART:19820101T010000
RRULE:FREQ=YEARLY;BYDAY=1FR;BYMONTH=1
TZNAME:+08
TZOFFSETFROM:+0900
TZOFFSETTO:+0800
END:STANDARD
END:VTIMEZONE
BEGIN:VEVENT
DESCRIPTION:This event is for members only. Find out more about membership 
 (including Events Only membership) at https://www.hubud.org/join/\n\nHave 
 you ever felt conflicted? When a part of you wants something\, but another
  part of you craves for a completely different thing? If you're human\, li
 kely yes.\n\nMost people think that they only have one brain when in fact 
 we have 3 distinct brains: the head\, the heart\, the gut. And they have d
 ifferent purposes and functions. \nWhen all 3 are in alignment with their 
 highest order operating\, that's the situation that leads us to our wisest
  decisions. And because wise decision making is critical to every business
 \, this is essential knowledge for all entrepreneurs. \n\nJoin Transformat
 ional Brain Trainer Divya Darling for an experience of multiple brain inte
 gration techniques. \n\nWhat you'll learn:\n- how and why you feel conflic
 ted \n- that we have 3 different brains and how to distinguish them\n- tec
 hniques for multiple brain integration\n- how to effectively implement wis
 e decision making in you work context\n\nAbout the speaker:\nAn enthrallin
 g storyteller with a profound message about human potential\, Divya Darlin
 g is devoted to illuminating the wisdom within. \n\nHaving researched the 
 mysteries of the mind for over a decade\, obtaining degrees in neuroscienc
 e\, psychology\, and cognitive sciences and being an avid yogi and philoso
 pher\, Divya serves as a Transformational Brain Trainer.\n\nAs Founder of 
 the Intrinsic Brilliance Institute - a place where science and spiritualit
 y intersect - she equips entrepreneurs dedicated to being their best with 
 practical tools to reinvent reality. \n\nSparking insights and enhancing i
 ntuition across the globe\, Divya hosts silent retreats\, facilitates work
 shops\, and brings a bright perspective to change management at conference
 s and corporate functions. \n\nDivya's zeal to enlighten up our world is p
 alpable to all who cross her path\; she has been featured in media outlets
  that span the spectrum from Sky Business News to Wellbeing magazine and s
 erved leaders of companies equally diverse and dynamic.\nEvent link: https
 ://Hubud.spaces.nexudus.com/en/events/view/627589116/skill-share--the-art-
 --science-of-wise-decision-making\n
DTEND;TZID=Asia/Singapore:20180628T133000
DTSTAMP:20260423T012753Z
DTSTART;TZID=Asia/Singapore:20180628T123000
LOCATION:Hubud
SEQUENCE:0
SUMMARY:Skill Share: The Art & Science of Wise Decision Making
UID:66997f11-79d9-43ab-b6bf-649cb982c273
END:VEVENT
END:VCALENDAR
