BEGIN:VCALENDAR
PRODID:Nexudus
VERSION:2.0
BEGIN:VTIMEZONE
TZID:Asia/Singapore
X-LIC-LOCATION:Asia/Singapore
BEGIN:STANDARD
DTSTART:19820101T010000
RRULE:FREQ=YEARLY;BYDAY=1FR;BYMONTH=1
TZNAME:+08
TZOFFSETFROM:+0900
TZOFFSETTO:+0800
END:STANDARD
END:VTIMEZONE
BEGIN:VEVENT
DESCRIPTION:This event is for members only. Find out more about membership 
 (including Events Only membership) at https://www.hubud.org/join/\n\nOnce 
 you venture beyond the touristy areas in Bali\, you will notice that few p
 eople can speak English. If you want to get to know the people around you\
 , and get what you need or where you want to go\, you will need to be able
  to speak some Bahasa Indonesia\, and the Indonesian people will really ap
 preciate your effort.\nThe course takes place if st least 3 participants a
 re attending\, so don’t forget to RSVP to rsvp@Hubud.org as soon as poss
 ible.\nEvent link: https://Hubud.spaces.nexudus.com/en/events/view/6278447
 42/crash-course-cinta-bahasa\n
DTEND;TZID=Asia/Singapore:20190511T123000
DTSTAMP:20260422T222249Z
DTSTART;TZID=Asia/Singapore:20190511T093000
LOCATION:Hubud
SEQUENCE:0
SUMMARY:Crash Course Cinta Bahasa
UID:e2886c9c-87eb-4c8c-8be3-9dfd5049d390
END:VEVENT
END:VCALENDAR
