BEGIN:VCALENDAR
PRODID:Nexudus
VERSION:2.0
BEGIN:VTIMEZONE
TZID:Asia/Singapore
X-LIC-LOCATION:Asia/Singapore
BEGIN:STANDARD
DTSTART:19820101T010000
RRULE:FREQ=YEARLY;BYDAY=1FR;BYMONTH=1
TZNAME:+08
TZOFFSETFROM:+0900
TZOFFSETTO:+0800
END:STANDARD
END:VTIMEZONE
BEGIN:VEVENT
DESCRIPTION:This event is for members only. Find out more about membership 
 (including Events Only membership) at https://www.hubud.org/join/\n\nIf th
 e terms "brand" and "brand building" sound exciting to you\, ethnography a
 nd design thinking are useful tools that need to be learned. Branding is m
 ore than just a logo. It’s a lot of little things that leave your client
 s and customers feeling good about you\, your product or your service. \nI
 f you want to know how to build a brand that has a defined identity\, this
  talk will get your mind jogging on the questions you need to answer to ge
 t there.\nIf you’ve always wanted to start a small business\, or you’r
 e a designer who helps brands with identity design and logos\, you may wan
 t to attend this Bungkus. \n\nDuring this talk you will learn:\n- to which
  extent ethnography can be the foundation of branding\n- how asking the ri
 ght questions is really important when you’re either building a brand or
  helping someone in doing so\n- to create a brand starting from questions 
 and answering with drawings\n\nAbout the speaker:\nAnushka's passion for a
 rt and design began early. She was a nerdy kid who wanted answers to more 
 than a fair number of questions. She grew up to become a Trans-disciplinar
 y Designer with a specialization in Visual Communication Design. It was on
 ly when she began working with small businesses on their branding that she
  felt something more was needed. That's why she went on\, pursuing a progr
 am in Entrepreneurship for Emerging Economies at the Stanford University. 
 The Ethnography and Design Thinking tools she learned have defined her des
 ign practice from then on. \n\nPresently\, she is in Bali working on a boo
 k for five to eight year old kids that encourages them to ask the most imp
 ortant question: 'Why am I here?’\nEvent link: https://Hubud.spaces.nexu
 dus.com/en/events/view/633887264/bali-bungkus--seek-you-ll-find--ask-the-r
 ight-branding-questions\n
DTEND;TZID=Asia/Singapore:20180627T133000
DTSTAMP:20260423T133713Z
DTSTART;TZID=Asia/Singapore:20180627T123000
LOCATION:Hubud
SEQUENCE:0
SUMMARY:Bali Bungkus: Seek\,you'll find. Ask the right branding questions
UID:382dd37d-46fe-425d-885e-b55432883aec
END:VEVENT
END:VCALENDAR
