BEGIN:VCALENDAR
PRODID:Nexudus
VERSION:2.0
BEGIN:VTIMEZONE
TZID:Asia/Singapore
X-LIC-LOCATION:Asia/Singapore
BEGIN:STANDARD
DTSTART:19820101T010000
RRULE:FREQ=YEARLY;BYDAY=1FR;BYMONTH=1
TZNAME:+08
TZOFFSETFROM:+0900
TZOFFSETTO:+0800
END:STANDARD
END:VTIMEZONE
BEGIN:VEVENT
DESCRIPTION:This event is for members only. Find out more about membership 
 (including Events Only membership) at https://www.hubud.org/join/\n\nCarlo
  Spada\, Carlos Costa and Guillaume Prevost are the founders of FriendTheo
 ry.com.\nThe online platform connects people with their friends of friends
  network so they can find free & trustworthy accommodation all around the 
 world. By leveraging on your existing social network\, the system locates 
 where your direct friends and friends of friends are in the world\, so you
  can filter your network and find what each of them is willing to offer yo
 u - from accommodation options (e.g. couch) to any detail that can be valu
 able for a traveler (e.g. grab a beer together\, tips or even laundry).\n\
 nThe challenges Friend Theory is facing:\nThe system can only display your
  friends and friends of friends who are already part of Friend Theory. Sin
 ce we are young startup\, if someone sign up to the platform and s/he hasn
 't been referred by any friends\, the likelihood of just seeing an empty m
 ap it's quite high - for this reason\, there is the need to work out WHAT 
 value Friend Theory can deliver to people through the platform even before
  having any friends on board and HOW it is possible to push referral and s
 how the value of referring friends onto the platform. \n\nMain desired out
 comes:\n- feedback from anyone with any sort of Growth skills - from Growt
 h hacks\, to organic growth (especially if it's through referral) to even 
 paid campaigns\n- feedback from UI/UX Designers and Software Developers\, 
 as part of the growth strategy will have a lot to do with the entire user 
 experience on the platform\nEvent link: https://Hubud.spaces.nexudus.com/e
 n/events/view/634173547/entrepreneurial-think-thank--friendtheory-com\n
DTEND;TZID=Asia/Singapore:20180627T160000
DTSTAMP:20260423T145557Z
DTSTART;TZID=Asia/Singapore:20180627T150000
LOCATION:Hubud
SEQUENCE:0
SUMMARY:Entrepreneurial Think Thank: FriendTheory.com
UID:86479c0c-5ec8-48b1-acd0-9abf1f6e21e2
END:VEVENT
END:VCALENDAR
