BEGIN:VCALENDAR
PRODID:Nexudus
VERSION:2.0
BEGIN:VTIMEZONE
TZID:Asia/Singapore
X-LIC-LOCATION:Asia/Singapore
BEGIN:STANDARD
DTSTART:19820101T010000
RRULE:FREQ=YEARLY;BYDAY=1FR;BYMONTH=1
TZNAME:+08
TZOFFSETFROM:+0900
TZOFFSETTO:+0800
END:STANDARD
END:VTIMEZONE
BEGIN:VEVENT
DESCRIPTION:This event is open to the public!\n\n★ SAVE THE DATE: MONDAY\
 , 16 JULY 2018\n★★ OPEN TO PUBLIC\n★★★ FREE SCREENING AT HUBUD\n
 \n❗❗ 𝐁𝐈𝐆 𝐍𝐄𝐖𝐒 ❗❗\nThere will be
  a buffet dinner for only 50.000 rupiahs! Enjoy the movie without feeling 
 in a rush to grab your food afterwards\, it's already there! \n\nIn this a
 nimated movie by the Japanese director Hayao Miyazaki\, 10-year-old Chihir
 o (Rumi Hiiragi) and her parents (Takashi Naitô\, Yasuko Sawaguchi) stumb
 le upon a seemingly abandoned amusement park. After her mother and father 
 are turned into giant pigs\, Chihiro meets the mysterious Haku (Miyu Irino
 )\, who explains that the park is a resort for supernatural beings who nee
 d a break from their time spent in the earthly realm\, and that she must w
 ork there to free herself and her parents.\n\nNot only we'll watch the mov
 ie\, but there will be an open discussion after the screening.\nEvent link
 : https://Hubud.spaces.nexudus.com/en/events/view/639481895/hubud-movie-ni
 ght--spirited-away\n
DTEND;TZID=Asia/Singapore:20180716T210000
DTSTAMP:20260423T121024Z
DTSTART;TZID=Asia/Singapore:20180716T190000
LOCATION:Hubud
SEQUENCE:0
SUMMARY:Hubud Movie Night: Spirited Away
UID:e6b3986d-a1af-4324-ab95-6db9a37cb498
END:VEVENT
END:VCALENDAR
