BEGIN:VCALENDAR
PRODID:Nexudus
VERSION:2.0
BEGIN:VTIMEZONE
TZID:Asia/Singapore
X-LIC-LOCATION:Asia/Singapore
BEGIN:STANDARD
DTSTART:19820101T010000
RRULE:FREQ=YEARLY;BYDAY=1FR;BYMONTH=1
TZNAME:+08
TZOFFSETFROM:+0900
TZOFFSETTO:+0800
END:STANDARD
END:VTIMEZONE
BEGIN:VEVENT
DESCRIPTION:This event is OPEN TO THE PUBLIC!\n\nWe know\, Monday is always
  a busy day. But because we love you so much\, we decided that at least di
 nner doesn't have to be a Monday-problem. We're bringing it directly to Hu
 bud just for you! \n\nThe cost will be IDR 50\,000 per person. Spots are l
 imited (20 pax only) so RSVP to rsvp@Hubud.org as soon as possible!\nEvent
  link: https://Hubud.spaces.nexudus.com/en/events/view/639481900/dinner-at
 -hubud\n
DTEND;TZID=Asia/Singapore:20180820T210000
DTSTAMP:20260423T103834Z
DTSTART;TZID=Asia/Singapore:20180820T190000
LOCATION:Hubud
SEQUENCE:0
SUMMARY:Dinner at Hubud
UID:e2a20a91-e34f-48ec-b1a6-bdaedd15d61b
END:VEVENT
END:VCALENDAR
