BEGIN:VCALENDAR
PRODID:Nexudus
VERSION:2.0
BEGIN:VTIMEZONE
TZID:Asia/Singapore
X-LIC-LOCATION:Asia/Singapore
BEGIN:STANDARD
DTSTART:19820101T010000
RRULE:FREQ=YEARLY;BYDAY=1FR;BYMONTH=1
TZNAME:+08
TZOFFSETFROM:+0900
TZOFFSETTO:+0800
END:STANDARD
END:VTIMEZONE
BEGIN:VEVENT
DESCRIPTION:This event is open to the public!\n\n★ SAVE THE DATE: MONDAY\
 , 2 JULY 2018\n★★ OPEN TO PUBLIC\n★★★ FREE SCREENING AT HUBUD\n\
 n❗❗ 𝐁𝐈𝐆 𝐍𝐄𝐖𝐒 ❗❗\nThere will be 
 a buffet dinner for only 50.000 rupiahs! Enjoy the movie without feeling i
 n a rush to grab your food afterwards\, it's already there! \n\nTranscendi
 ng the boundaries of technology and imagination\, "Waking Life" is a revol
 utionary breakthrough in film animation. Wiley Wiggins travels through a s
 eries of encounters and observations in a world that may or may not be rea
 lity. It is this surreal existence\, flourishing with endless ideas and po
 ssibilities\, that ultimately leads to the question: are we sleep-walking 
 through our waking state or wake-walking through our dreams?\n\nNot only w
 e'll watch the movie\, but there will be an open discussion after the scre
 ening.\nEvent link: https://Hubud.spaces.nexudus.com/en/events/view/639481
 945/hubud-movie-night--waking-life\n
DTEND;TZID=Asia/Singapore:20180702T210000
DTSTAMP:20260423T132036Z
DTSTART;TZID=Asia/Singapore:20180702T190000
LOCATION:Hubud
SEQUENCE:0
SUMMARY:Hubud Movie Night: Waking Life
UID:e7723606-6de2-40de-b513-94f8d1503a1f
END:VEVENT
END:VCALENDAR
