BEGIN:VCALENDAR
PRODID:Nexudus
VERSION:2.0
BEGIN:VTIMEZONE
TZID:Asia/Singapore
X-LIC-LOCATION:Asia/Singapore
BEGIN:STANDARD
DTSTART:19820101T010000
RRULE:FREQ=YEARLY;BYDAY=1FR;BYMONTH=1
TZNAME:+08
TZOFFSETFROM:+0900
TZOFFSETTO:+0800
END:STANDARD
END:VTIMEZONE
BEGIN:VEVENT
DESCRIPTION:This event is for members only. Find out more about membership 
 (including Events Only membership) at https://www.hubud.org/join/\n\nSerge
 \, a location-independent digital nomad took his savings and bought an apa
 rtment in his hometown out of the blue. \nWould you ever do the same as a 
 digital nomad?\n\nWhy you should attend this talk:\n- learn what he thinks
  about that decision after a couple of years\n- reflect upon the issue: do
 es it really make sense to have a stable apartment while being a location-
 independent worker?\n- as a remote worker who is considering to buy a home
 \, you would get some useful tips\n\nAbout the speaker:\nSerge is an e-com
 merce project manager who has been working remotely since 2015.\nEvent lin
 k: https://Hubud.spaces.nexudus.com/en/events/view/641055416/skill-share--
 as-a-digital-nomad--should-i-buy-an-apartment-\n
DTEND;TZID=Asia/Singapore:20180710T133000
DTSTAMP:20260423T132014Z
DTSTART;TZID=Asia/Singapore:20180710T123000
LOCATION:Hubud
SEQUENCE:0
SUMMARY:Skill Share: As a Digital Nomad\, should I buy an apartment?
UID:a51a51d6-ba2f-4580-8f0e-7e2167e12bf8
END:VEVENT
END:VCALENDAR
