BEGIN:VCALENDAR
PRODID:Nexudus
VERSION:2.0
BEGIN:VTIMEZONE
TZID:Asia/Singapore
X-LIC-LOCATION:Asia/Singapore
BEGIN:STANDARD
DTSTART:19820101T010000
RRULE:FREQ=YEARLY;BYDAY=1FR;BYMONTH=1
TZNAME:+08
TZOFFSETFROM:+0900
TZOFFSETTO:+0800
END:STANDARD
END:VTIMEZONE
BEGIN:VEVENT
DESCRIPTION:\nEvent link: https://Hubud.spaces.nexudus.com/en/events/view/6
 44511869/entrepreneurial-think-thank--chiara-leto\n
DTEND;TZID=Asia/Singapore:20180704T133000
DTSTAMP:20260425T172557Z
DTSTART;TZID=Asia/Singapore:20180704T123000
LOCATION:Hubud
SEQUENCE:0
SUMMARY:Entrepreneurial Think Thank: Chiara Leto
UID:27851fc3-c3c6-4712-8454-4d9255d91804
END:VEVENT
END:VCALENDAR
