BEGIN:VCALENDAR
PRODID:Nexudus
VERSION:2.0
BEGIN:VTIMEZONE
TZID:Asia/Singapore
X-LIC-LOCATION:Asia/Singapore
BEGIN:STANDARD
DTSTART:19820101T010000
RRULE:FREQ=YEARLY;BYDAY=1FR;BYMONTH=1
TZNAME:+08
TZOFFSETFROM:+0900
TZOFFSETTO:+0800
END:STANDARD
END:VTIMEZONE
BEGIN:VEVENT
DESCRIPTION:This event is for members only. Find out more about membership 
 (including Events Only membership) at https://www.hubud.org/join/\n\nDid y
 ou know that 60% of startup businesses fail while scaling too fast?\nThe a
 im of this event is to support you in unlocking your business full potenti
 al using logic & magic:\n- create a solid strategic vision with strong sen
 se of purpose\, mission and values - people don’t buy what you do\, they
  buy WHY you do it!\n- consolidate your business fundamentals: why do you 
 do what you do? What problems are you trying to solve? Who is your target?
 \n- build a rock star team based on trust\, respect and skills. Play hard\
 , work hard.\n- get inspired!\n\nDuring this talk you will learn: \n- to r
 e-frame your strategic business thinking why\, what and how\n- to strength
 en the golden rules for your business model canvas: what problems you are 
 solving? Who is your target audience? Which channels are you going to use 
 along with the main one?\n- to rapidly track your business: how can you bu
 ild\, measure\, learn in a better way\n-to successfully build a team: what
  undermines high performing teams? Skills\, roles\, leadership\, culture\,
  personality types?\n- best case studies' practices\, their experiences an
 d tools\n\nAbout the speaker:\nCristina is Portuguese\, from Lisbon\, but 
 she lived in Rome and London during the past 10 years.\nIn September 2017 
 she started her project “a quest for a meaning journey”\, travelling a
 round the world to re-invent herself\, learn\, be inspired and design the 
 next chapter of her life. \nShe is living and working to create more purpo
 seful and impacting businesses.\n\nCristina is a visionary leader with mul
 tiple achievements in the FMCG industry. She has built brands around topic
 s such as growing food\, personal care and home care.\nShe worked 14 years
  for Unilever \,in the Global Brand Marketing team\, Strategy \, Customer 
 & Shopper Marketing\, Retail\, E-commerce\, New Business Models B2B and D2
 C.\n\nCristina key achievements:\n* Wall’s ice cream global re-branding\
 , launch and growth across 52 countries \n* Founder of the new Disruptive 
 E-commerce Business Models\n* Business partnerships for offline retailers 
 and online pure plays\n* Business Transformation\, Leadership\, Growth min
 dset and mentoring skills\n\nCurrently\, she is working as business adviso
 r consultant for startups and NGO’s and she is mentoring young talents.\
 nEvent link: https://Hubud.spaces.nexudus.com/en/events/view/647521955/bal
 i-bungkus--logic---magic-for-scaling-without-failing\n
DTEND;TZID=Asia/Singapore:20180712T133000
DTSTAMP:20260423T012725Z
DTSTART;TZID=Asia/Singapore:20180712T123000
LOCATION:Hubud
SEQUENCE:0
SUMMARY:Bali Bungkus: Logic & Magic For Scaling Without Failing
UID:cd06ee8d-f61d-4661-bb49-101ce43eadba
END:VEVENT
END:VCALENDAR
