BEGIN:VCALENDAR
PRODID:Nexudus
VERSION:2.0
BEGIN:VTIMEZONE
TZID:Asia/Singapore
X-LIC-LOCATION:Asia/Singapore
BEGIN:STANDARD
DTSTART:19820101T010000
RRULE:FREQ=YEARLY;BYDAY=1FR;BYMONTH=1
TZNAME:+08
TZOFFSETFROM:+0900
TZOFFSETTO:+0800
END:STANDARD
END:VTIMEZONE
BEGIN:VEVENT
DESCRIPTION:This event is for members only. Find out more about membership 
 (including Events Only membership) at https://www.hubud.org/join/\n\nFree 
 Spirit is an ethical yoga wear brand\, founded in Australia 3 years ago by
  Christina\, and just last year launched in the UK. They have slowly been 
 expanding online via digital marketing\, raising brand awareness at yoga f
 estivals and growing their stockists in both of these countries.\n\nThe ch
 allenges:\nWith a goal to increase online sales\, Free Spirit is currently
  considering the strategy for expansion globally - Whether to use their bu
 dget to reach out to new markets or to stick with the 2 countries they kno
 w and focus on expansion there?\n\nMain desired outcomes:\n- any help and 
 advice from anyone with an e-commerce business\, experience of growing a b
 usiness internationally\n- input from anyone who has an interest in the Yo
 ga & Wellness scene who may have ideas of how Free Spirit might work in th
 eir home country\nEvent link: https://Hubud.spaces.nexudus.com/en/events/v
 iew/674480027/entrepreneurial-think-thank--free-spirit\n
DTEND;TZID=Asia/Singapore:20180815T133000
DTSTAMP:20260422T222115Z
DTSTART;TZID=Asia/Singapore:20180815T123000
LOCATION:Hubud
SEQUENCE:0
SUMMARY:Entrepreneurial Think Thank: Free Spirit
UID:0c48cefc-742f-4133-82d6-1ae39808b30b
END:VEVENT
END:VCALENDAR
