BEGIN:VCALENDAR
PRODID:Nexudus
VERSION:2.0
BEGIN:VTIMEZONE
TZID:Asia/Singapore
X-LIC-LOCATION:Asia/Singapore
BEGIN:STANDARD
DTSTART:19820101T010000
RRULE:FREQ=YEARLY;BYDAY=1FR;BYMONTH=1
TZNAME:+08
TZOFFSETFROM:+0900
TZOFFSETTO:+0800
END:STANDARD
END:VTIMEZONE
BEGIN:VEVENT
DESCRIPTION:This event is for members only. Find out more about membership 
 (including Events Only membership) at https://www.hubud.org/join/\n\nAre y
 ou craving to make a bigger impact in this world through your business? Do
  you believe you need to become a millionaire first before you can give ba
 ck to the causes and communities you care about? Come and learn how this i
 s just a myth and find out how you can start making impact with your busin
 ess today. You can do this!\n\nWhat you'll learn:\n- different ways that e
 ntrepreneurs can weave social impact into their business\n- get to know in
 spiring examples of impact entrepreneurs\, who\, just like yourself\, star
 ted out doing so without having millions in the bank. - the existence of a
  world where businesses exist to make a profit AND make social impact\n- h
 ow to be part of that!\n\nAbout the speaker:\nRianne is a social impact bu
 siness mentor who guides entrepreneurs who want to tie a business mission 
 together with a social mission. She is the co-founder of Impact Business B
 ase\, an online membership community for social impact entrepreneurs. She 
 brings 20 years of experience in working with entrepreneurs on creating po
 werful customer connections to the table and is crazy passionate about cre
 ating a world where all businesses uplift humanity and our planet next to 
 making a profit.\nEvent link: https://Hubud.spaces.nexudus.com/en/events/v
 iew/679904393/bali-bungkus--how-to-weave-social-impact-into-your-business\
 n
DTEND;TZID=Asia/Singapore:20180829T133000
DTSTAMP:20260423T082423Z
DTSTART;TZID=Asia/Singapore:20180829T123000
LOCATION:Hubud
SEQUENCE:0
SUMMARY:Bali Bungkus: How to Weave Social Impact Into Your Business
UID:274df8e5-84da-4362-b733-89fa3c27881f
END:VEVENT
END:VCALENDAR
