BEGIN:VCALENDAR
PRODID:Nexudus
VERSION:2.0
BEGIN:VTIMEZONE
TZID:Asia/Singapore
X-LIC-LOCATION:Asia/Singapore
BEGIN:STANDARD
DTSTART:19820101T010000
RRULE:FREQ=YEARLY;BYDAY=1FR;BYMONTH=1
TZNAME:+08
TZOFFSETFROM:+0900
TZOFFSETTO:+0800
END:STANDARD
END:VTIMEZONE
BEGIN:VEVENT
DESCRIPTION:\nEvent link: https://Hubud.spaces.nexudus.com/en/events/view/6
 92176499/bali-bungkus--seo-101---how-to-accelerate-your-seo-success\n
DTEND;TZID=Asia/Singapore:20180927T133000
DTSTAMP:20260422T222248Z
DTSTART;TZID=Asia/Singapore:20180927T123000
LOCATION:Hubud
SEQUENCE:0
SUMMARY:Bali Bungkus: SEO 101 - How to accelerate your SEO success
UID:3c517ddd-b386-4aef-a2d4-5ca4f6ea7006
END:VEVENT
END:VCALENDAR
