BEGIN:VCALENDAR
PRODID:Nexudus
VERSION:2.0
BEGIN:VTIMEZONE
TZID:Asia/Singapore
X-LIC-LOCATION:Asia/Singapore
BEGIN:STANDARD
DTSTART:19820101T010000
RRULE:FREQ=YEARLY;BYDAY=1FR;BYMONTH=1
TZNAME:+08
TZOFFSETFROM:+0900
TZOFFSETTO:+0800
END:STANDARD
END:VTIMEZONE
BEGIN:VEVENT
DESCRIPTION:\nEvent link: https://Hubud.spaces.nexudus.com/en/events/view/6
 97353685/hubud-excursion--explore-the-authentic-balinese-life---culture-\n
DTEND;TZID=Asia/Singapore:20180904T150000
DTSTAMP:20260422T222058Z
DTSTART;TZID=Asia/Singapore:20181006T090000
LOCATION:Hubud
SEQUENCE:0
SUMMARY:Hubud Excursion: Explore the Authentic Balinese Life & Culture!
UID:27fe0fd9-2fe2-470c-9f11-13e53cc33888
END:VEVENT
END:VCALENDAR
