BEGIN:VCALENDAR
PRODID:Nexudus
VERSION:2.0
BEGIN:VTIMEZONE
TZID:Asia/Singapore
X-LIC-LOCATION:Asia/Singapore
BEGIN:STANDARD
DTSTART:19820101T010000
RRULE:FREQ=YEARLY;BYDAY=1FR;BYMONTH=1
TZNAME:+08
TZOFFSETFROM:+0900
TZOFFSETTO:+0800
END:STANDARD
END:VTIMEZONE
BEGIN:VEVENT
DESCRIPTION:\nEvent link: https://Hubud.spaces.nexudus.com/en/events/view/7
 14558253/therapeutic-thursday--yoga-at-hubud\n
DTEND;TZID=Asia/Singapore:20181011T170000
DTSTAMP:20260423T012630Z
DTSTART;TZID=Asia/Singapore:20181011T160000
LOCATION:Hubud
SEQUENCE:0
SUMMARY:Therapeutic Thursday: Yoga at Hubud
UID:68af3d3b-37b4-4ff9-b0b2-140b0d0c1bdb
END:VEVENT
END:VCALENDAR
