BEGIN:VCALENDAR
PRODID:Nexudus
VERSION:2.0
BEGIN:VTIMEZONE
TZID:Asia/Singapore
X-LIC-LOCATION:Asia/Singapore
BEGIN:STANDARD
DTSTART:19820101T010000
RRULE:FREQ=YEARLY;BYDAY=1FR;BYMONTH=1
TZNAME:+08
TZOFFSETFROM:+0900
TZOFFSETTO:+0800
END:STANDARD
END:VTIMEZONE
BEGIN:VEVENT
DESCRIPTION:\nEvent link: https://Hubud.spaces.nexudus.com/en/events/view/7
 14571327/think-thank--luxury-travel-blog-for-business-people\n
DTEND;TZID=Asia/Singapore:20181001T133000
DTSTAMP:20260422T235352Z
DTSTART;TZID=Asia/Singapore:20181001T123000
LOCATION:Hubud
SEQUENCE:0
SUMMARY:Think Thank: Luxury Travel Blog For Business People
UID:2991551f-2f0e-4776-8af3-8ecd8cd7ff0c
END:VEVENT
END:VCALENDAR
