BEGIN:VCALENDAR
PRODID:Nexudus
VERSION:2.0
BEGIN:VTIMEZONE
TZID:Asia/Singapore
X-LIC-LOCATION:Asia/Singapore
BEGIN:STANDARD
DTSTART:19820101T010000
RRULE:FREQ=YEARLY;BYDAY=1FR;BYMONTH=1
TZNAME:+08
TZOFFSETFROM:+0900
TZOFFSETTO:+0800
END:STANDARD
END:VTIMEZONE
BEGIN:VEVENT
DESCRIPTION:\nEvent link: https://Hubud.spaces.nexudus.com/en/events/view/7
 31202602/skill-share--how-to-tell-your-story-in-times-of-transition\n
DTEND;TZID=Asia/Singapore:20181011T133000
DTSTAMP:20260423T043356Z
DTSTART;TZID=Asia/Singapore:20181016T123000
LOCATION:Hubud
SEQUENCE:0
SUMMARY:Skill Share: How to Tell Your Story in Times of Transition
UID:62897043-58b6-4552-a184-1d01879e710f
END:VEVENT
END:VCALENDAR
